BEGIN:VCALENDAR
VERSION:2.0
PRODID:-//The Music of Jenny Oag - ECPv5.1.4//NONSGML v1.0//EN
CALSCALE:GREGORIAN
METHOD:PUBLISH
X-WR-CALNAME:The Music of Jenny Oag
X-ORIGINAL-URL:https://jenny-oag.co.uk
X-WR-CALDESC:Events for The Music of Jenny Oag
BEGIN:VTIMEZONE
TZID:UTC
BEGIN:STANDARD
TZOFFSETFROM:+0000
TZOFFSETTO:+0000
TZNAME:UTC
DTSTART:20250101T000000
END:STANDARD
END:VTIMEZONE
BEGIN:VEVENT
DTSTART;TZID=UTC:20250124T203000
DTEND;TZID=UTC:20250124T223000
DTSTAMP:20260421T223938
CREATED:20241128T141327Z
LAST-MODIFIED:20241128T141327Z
UID:6098-1737750600-1737757800@jenny-oag.co.uk
SUMMARY:Anchor & Hope Salisbury
DESCRIPTION:
URL:https://jenny-oag.co.uk/event/anchor-hope-salisbury/
LOCATION:Anchor & Hope 59-61 Winchester Street Salisbury SP1 1HL
END:VEVENT
END:VCALENDAR