BEGIN:VCALENDAR
VERSION:2.0
PRODID:-//The Music of Jenny Oag - ECPv5.1.4//NONSGML v1.0//EN
CALSCALE:GREGORIAN
METHOD:PUBLISH
X-WR-CALNAME:The Music of Jenny Oag
X-ORIGINAL-URL:https://jenny-oag.co.uk
X-WR-CALDESC:Events for The Music of Jenny Oag
BEGIN:VTIMEZONE
TZID:UTC
BEGIN:STANDARD
TZOFFSETFROM:+0000
TZOFFSETTO:+0000
TZNAME:UTC
DTSTART:20260101T000000
END:STANDARD
END:VTIMEZONE
BEGIN:VEVENT
DTSTART;TZID=UTC:20260705T140000
DTEND;TZID=UTC:20260705T150000
DTSTAMP:20260420T204814
CREATED:20260407T112630Z
LAST-MODIFIED:20260407T112630Z
UID:6746-1783260000-1783263600@jenny-oag.co.uk
SUMMARY:Ashbourne Court Care Home
DESCRIPTION:
URL:https://jenny-oag.co.uk/event/ashbourne-court-care-home/
LOCATION:Ashbourne Court Care Home
END:VEVENT
END:VCALENDAR