BEGIN:VCALENDAR
VERSION:2.0
PRODID:-//The Music of Jenny Oag - ECPv5.1.4//NONSGML v1.0//EN
CALSCALE:GREGORIAN
METHOD:PUBLISH
X-WR-CALNAME:The Music of Jenny Oag
X-ORIGINAL-URL:https://jenny-oag.co.uk
X-WR-CALDESC:Events for The Music of Jenny Oag
BEGIN:VTIMEZONE
TZID:UTC
BEGIN:STANDARD
TZOFFSETFROM:+0000
TZOFFSETTO:+0000
TZNAME:UTC
DTSTART:20250101T000000
END:STANDARD
END:VTIMEZONE
BEGIN:VEVENT
DTSTART;TZID=UTC:20250426T203000
DTEND;TZID=UTC:20250426T223000
DTSTAMP:20260421T172351
CREATED:20240923T162706Z
LAST-MODIFIED:20240923T162706Z
UID:5985-1745699400-1745706600@jenny-oag.co.uk
SUMMARY:Bulford Working Men’s Club
DESCRIPTION:
URL:https://jenny-oag.co.uk/event/bulford-working-mens-club-3/
LOCATION:Bulford Working Mens Club\, 31 High St\, Bulford\, Salisbury\, SP4 9DR
END:VEVENT
END:VCALENDAR