BEGIN:VCALENDAR
VERSION:2.0
PRODID:-//The Music of Jenny Oag - ECPv5.1.4//NONSGML v1.0//EN
CALSCALE:GREGORIAN
METHOD:PUBLISH
X-WR-CALNAME:The Music of Jenny Oag
X-ORIGINAL-URL:https://jenny-oag.co.uk
X-WR-CALDESC:Events for The Music of Jenny Oag
BEGIN:VTIMEZONE
TZID:UTC
BEGIN:STANDARD
TZOFFSETFROM:+0000
TZOFFSETTO:+0000
TZNAME:UTC
DTSTART:20230101T000000
END:STANDARD
END:VTIMEZONE
BEGIN:VEVENT
DTSTART;TZID=UTC:20230917T210000
DTEND;TZID=UTC:20230917T220000
DTSTAMP:20260425T004101
CREATED:20230131T181203Z
LAST-MODIFIED:20230131T181203Z
UID:5141-1694984400-1694988000@jenny-oag.co.uk
SUMMARY:Burnham on Sea  Haven Holidays
DESCRIPTION:
URL:https://jenny-oag.co.uk/event/burnham-on-sea-haven-holidays-2/
END:VEVENT
END:VCALENDAR