BEGIN:VCALENDAR
VERSION:2.0
PRODID:-//The Music of Jenny Oag - ECPv5.1.4//NONSGML v1.0//EN
CALSCALE:GREGORIAN
METHOD:PUBLISH
X-WR-CALNAME:The Music of Jenny Oag
X-ORIGINAL-URL:https://jenny-oag.co.uk
X-WR-CALDESC:Events for The Music of Jenny Oag
BEGIN:VTIMEZONE
TZID:UTC
BEGIN:STANDARD
TZOFFSETFROM:+0000
TZOFFSETTO:+0000
TZNAME:UTC
DTSTART:20250101T000000
END:STANDARD
END:VTIMEZONE
BEGIN:VEVENT
DTSTART;TZID=UTC:20250915T200000
DTEND;TZID=UTC:20250915T220000
DTSTAMP:20260421T091018
CREATED:20250902T144120Z
LAST-MODIFIED:20250902T144120Z
UID:6423-1757966400-1757973600@jenny-oag.co.uk
SUMMARY:Carrington Hotel
DESCRIPTION:
URL:https://jenny-oag.co.uk/event/carrington-hotel-59/
LOCATION:Carrington House Hotel\, Knyveton Road\, Bournemouth\, BH1 3QQ\, United Kingdom
END:VEVENT
END:VCALENDAR