BEGIN:VCALENDAR
VERSION:2.0
PRODID:-//The Music of Jenny Oag - ECPv5.1.4//NONSGML v1.0//EN
CALSCALE:GREGORIAN
METHOD:PUBLISH
X-WR-CALNAME:The Music of Jenny Oag
X-ORIGINAL-URL:https://jenny-oag.co.uk
X-WR-CALDESC:Events for The Music of Jenny Oag
BEGIN:VTIMEZONE
TZID:UTC
BEGIN:STANDARD
TZOFFSETFROM:+0000
TZOFFSETTO:+0000
TZNAME:UTC
DTSTART:20260101T000000
END:STANDARD
END:VTIMEZONE
BEGIN:VEVENT
DTSTART;TZID=UTC:20260304T200000
DTEND;TZID=UTC:20260304T220000
DTSTAMP:20260420T205658
CREATED:20260219T151115Z
LAST-MODIFIED:20260219T151115Z
UID:6684-1772654400-1772661600@jenny-oag.co.uk
SUMMARY:Carrington Hotel
DESCRIPTION:
URL:https://jenny-oag.co.uk/event/carrington-hotel-62/
LOCATION:Carrington House Hotel\, Knyveton Road\, Bournemouth\, BH1 3QQ\, United Kingdom
END:VEVENT
END:VCALENDAR