BEGIN:VCALENDAR
VERSION:2.0
PRODID:-//The Music of Jenny Oag - ECPv5.1.4//NONSGML v1.0//EN
CALSCALE:GREGORIAN
METHOD:PUBLISH
X-WR-CALNAME:The Music of Jenny Oag
X-ORIGINAL-URL:https://jenny-oag.co.uk
X-WR-CALDESC:Events for The Music of Jenny Oag
BEGIN:VTIMEZONE
TZID:UTC
BEGIN:STANDARD
TZOFFSETFROM:+0000
TZOFFSETTO:+0000
TZNAME:UTC
DTSTART:20260101T000000
END:STANDARD
END:VTIMEZONE
BEGIN:VEVENT
DTSTART;TZID=UTC:20260402T180000
DTEND;TZID=UTC:20260402T200000
DTSTAMP:20260420T183050
CREATED:20260326T120641Z
LAST-MODIFIED:20260326T120641Z
UID:6727-1775152800-1775160000@jenny-oag.co.uk
SUMMARY:Cherry Tree Flackwell Heath
DESCRIPTION:
URL:https://jenny-oag.co.uk/event/cherry-tree-flackwell-heath/
LOCATION:5 Straight Bit\, Flackwell Heath\, High Wycombe HP10 9LS
END:VEVENT
END:VCALENDAR