BEGIN:VCALENDAR
VERSION:2.0
PRODID:-//The Music of Jenny Oag - ECPv5.1.4//NONSGML v1.0//EN
CALSCALE:GREGORIAN
METHOD:PUBLISH
X-WR-CALNAME:The Music of Jenny Oag
X-ORIGINAL-URL:https://jenny-oag.co.uk
X-WR-CALDESC:Events for The Music of Jenny Oag
BEGIN:VTIMEZONE
TZID:UTC
BEGIN:STANDARD
TZOFFSETFROM:+0000
TZOFFSETTO:+0000
TZNAME:UTC
DTSTART:20230101T000000
END:STANDARD
END:VTIMEZONE
BEGIN:VEVENT
DTSTART;TZID=UTC:20230209T203000
DTEND;TZID=UTC:20230209T223000
DTSTAMP:20260425T164101
CREATED:20221209T155206Z
LAST-MODIFIED:20221209T155206Z
UID:5002-1675974600-1675981800@jenny-oag.co.uk
SUMMARY:Court Royal Hotel Private Event
DESCRIPTION:
URL:https://jenny-oag.co.uk/event/court-royal-hotel-private-event-6/
END:VEVENT
END:VCALENDAR