BEGIN:VCALENDAR
VERSION:2.0
PRODID:-//The Music of Jenny Oag - ECPv5.1.4//NONSGML v1.0//EN
CALSCALE:GREGORIAN
METHOD:PUBLISH
X-WR-CALNAME:The Music of Jenny Oag
X-ORIGINAL-URL:https://jenny-oag.co.uk
X-WR-CALDESC:Events for The Music of Jenny Oag
BEGIN:VTIMEZONE
TZID:UTC
BEGIN:STANDARD
TZOFFSETFROM:+0000
TZOFFSETTO:+0000
TZNAME:UTC
DTSTART:20230101T000000
END:STANDARD
END:VTIMEZONE
BEGIN:VEVENT
DTSTART;TZID=UTC:20230302T203000
DTEND;TZID=UTC:20230302T223000
DTSTAMP:20260423T220324
CREATED:20221209T155337Z
LAST-MODIFIED:20221209T155337Z
UID:5006-1677789000-1677796200@jenny-oag.co.uk
SUMMARY:Court Royal Hotel Private Event
DESCRIPTION:
URL:https://jenny-oag.co.uk/event/court-royal-hotel-private-event-8/
END:VEVENT
END:VCALENDAR