BEGIN:VCALENDAR
VERSION:2.0
PRODID:-//The Music of Jenny Oag - ECPv5.1.4//NONSGML v1.0//EN
CALSCALE:GREGORIAN
METHOD:PUBLISH
X-WR-CALNAME:The Music of Jenny Oag
X-ORIGINAL-URL:https://jenny-oag.co.uk
X-WR-CALDESC:Events for The Music of Jenny Oag
BEGIN:VTIMEZONE
TZID:UTC
BEGIN:STANDARD
TZOFFSETFROM:+0000
TZOFFSETTO:+0000
TZNAME:UTC
DTSTART:20240101T000000
END:STANDARD
END:VTIMEZONE
BEGIN:VEVENT
DTSTART;TZID=UTC:20240615T123000
DTEND;TZID=UTC:20240615T143000
DTSTAMP:20260424T043748
CREATED:20240513T171730Z
LAST-MODIFIED:20240513T171730Z
UID:5865-1718454600-1718461800@jenny-oag.co.uk
SUMMARY:Fox & Pelican
DESCRIPTION:
URL:https://jenny-oag.co.uk/event/fox-pelican/
LOCATION:The Fox & Pelican\, Hindhead\, Headley Rd\, Grayshott\, Hindhead\, GU26 6LG
END:VEVENT
END:VCALENDAR