BEGIN:VCALENDAR
VERSION:2.0
PRODID:-//The Music of Jenny Oag - ECPv5.1.4//NONSGML v1.0//EN
CALSCALE:GREGORIAN
METHOD:PUBLISH
X-WR-CALNAME:The Music of Jenny Oag
X-ORIGINAL-URL:https://jenny-oag.co.uk
X-WR-CALDESC:Events for The Music of Jenny Oag
BEGIN:VTIMEZONE
TZID:UTC
BEGIN:STANDARD
TZOFFSETFROM:+0000
TZOFFSETTO:+0000
TZNAME:UTC
DTSTART:20230101T000000
END:STANDARD
END:VTIMEZONE
BEGIN:VEVENT
DTSTART;TZID=UTC:20230219T110000
DTEND;TZID=UTC:20230219T150000
DTSTAMP:20260425T151356
CREATED:20230123T115438Z
LAST-MODIFIED:20230123T120821Z
UID:5082-1676804400-1676818800@jenny-oag.co.uk
SUMMARY:Spiral Events Hampshire Court Hotel Wedding Fayre
DESCRIPTION:Hampshire Court Hotel Wedding Fayre 11-3pm \n
URL:https://jenny-oag.co.uk/event/hampshire-court-hotel-wedding-fayre/
LOCATION:Centre Dr\, Chineham\, Basingstoke RG24 8FY\, UK
END:VEVENT
END:VCALENDAR