BEGIN:VCALENDAR
VERSION:2.0
PRODID:-//The Music of Jenny Oag - ECPv5.1.4//NONSGML v1.0//EN
CALSCALE:GREGORIAN
METHOD:PUBLISH
X-WR-CALNAME:The Music of Jenny Oag
X-ORIGINAL-URL:https://jenny-oag.co.uk
X-WR-CALDESC:Events for The Music of Jenny Oag
BEGIN:VTIMEZONE
TZID:UTC
BEGIN:STANDARD
TZOFFSETFROM:+0000
TZOFFSETTO:+0000
TZNAME:UTC
DTSTART:20220101T000000
END:STANDARD
END:VTIMEZONE
BEGIN:VEVENT
DTSTART;TZID=UTC:20221209T200000
DTEND;TZID=UTC:20221209T220000
DTSTAMP:20260425T183837
CREATED:20220718T184249Z
LAST-MODIFIED:20220718T184249Z
UID:4772-1670616000-1670623200@jenny-oag.co.uk
SUMMARY:Highcliffe Castle Golf Club
DESCRIPTION:
URL:https://jenny-oag.co.uk/event/highcliffe-castle-golf-club/
END:VEVENT
END:VCALENDAR