BEGIN:VCALENDAR
VERSION:2.0
PRODID:-//The Music of Jenny Oag - ECPv5.1.4//NONSGML v1.0//EN
CALSCALE:GREGORIAN
METHOD:PUBLISH
X-WR-CALNAME:The Music of Jenny Oag
X-ORIGINAL-URL:https://jenny-oag.co.uk
X-WR-CALDESC:Events for The Music of Jenny Oag
BEGIN:VTIMEZONE
TZID:UTC
BEGIN:STANDARD
TZOFFSETFROM:+0000
TZOFFSETTO:+0000
TZNAME:UTC
DTSTART:20230101T000000
END:STANDARD
END:VTIMEZONE
BEGIN:VEVENT
DTSTART;TZID=UTC:20231118T120000
DTEND;TZID=UTC:20231118T140000
DTSTAMP:20260424T192907
CREATED:20231019T085152Z
LAST-MODIFIED:20231019T085152Z
UID:5491-1700308800-1700316000@jenny-oag.co.uk
SUMMARY:Hockey's Farm Shop 10 year Anniversary
DESCRIPTION: \n
URL:https://jenny-oag.co.uk/event/hockeys-farm-shop-10-year-anniversary/
LOCATION:South Gorley\, Fordingbridge SP6 2PW
END:VEVENT
END:VCALENDAR