BEGIN:VCALENDAR
VERSION:2.0
PRODID:-//The Music of Jenny Oag - ECPv5.1.4//NONSGML v1.0//EN
CALSCALE:GREGORIAN
METHOD:PUBLISH
X-WR-CALNAME:The Music of Jenny Oag
X-ORIGINAL-URL:https://jenny-oag.co.uk
X-WR-CALDESC:Events for The Music of Jenny Oag
BEGIN:VTIMEZONE
TZID:UTC
BEGIN:STANDARD
TZOFFSETFROM:+0000
TZOFFSETTO:+0000
TZNAME:UTC
DTSTART:20230101T000000
END:STANDARD
END:VTIMEZONE
BEGIN:VEVENT
DTSTART;TZID=UTC:20230505T200000
DTEND;TZID=UTC:20230505T220000
DTSTAMP:20260425T093714
CREATED:20221107T182239Z
LAST-MODIFIED:20221107T182239Z
UID:4953-1683316800-1683324000@jenny-oag.co.uk
SUMMARY:Holdens Holiday Park
DESCRIPTION:
URL:https://jenny-oag.co.uk/event/holdens-holiday-park-2/
LOCATION:Holdens Holiday Park\, Bracklesham Lane\, Bracklesham Bay\, West Sussex\, PO20 8JG\, United Kingdom
END:VEVENT
END:VCALENDAR