BEGIN:VCALENDAR
VERSION:2.0
PRODID:-//The Music of Jenny Oag - ECPv5.1.4//NONSGML v1.0//EN
CALSCALE:GREGORIAN
METHOD:PUBLISH
X-WR-CALNAME:The Music of Jenny Oag
X-ORIGINAL-URL:https://jenny-oag.co.uk
X-WR-CALDESC:Events for The Music of Jenny Oag
BEGIN:VTIMEZONE
TZID:UTC
BEGIN:STANDARD
TZOFFSETFROM:+0000
TZOFFSETTO:+0000
TZNAME:UTC
DTSTART:20230101T000000
END:STANDARD
END:VTIMEZONE
BEGIN:VEVENT
DTSTART;TZID=UTC:20230226T110000
DTEND;TZID=UTC:20230226T150000
DTSTAMP:20260425T151011
CREATED:20230123T115732Z
LAST-MODIFIED:20230123T120620Z
UID:5085-1677409200-1677423600@jenny-oag.co.uk
SUMMARY:Spiral Events Holiday Inn Winchester Wedding Fayre
DESCRIPTION:
URL:https://jenny-oag.co.uk/event/holiday-inn-winchester-wedding-fayre/
LOCATION:Morn hill caravan club site\, Telegraph Way\, Winchester SO21 1HZ\, UK
END:VEVENT
END:VCALENDAR