BEGIN:VCALENDAR
VERSION:2.0
PRODID:-//The Music of Jenny Oag - ECPv5.1.4//NONSGML v1.0//EN
CALSCALE:GREGORIAN
METHOD:PUBLISH
X-WR-CALNAME:The Music of Jenny Oag
X-ORIGINAL-URL:https://jenny-oag.co.uk
X-WR-CALDESC:Events for The Music of Jenny Oag
BEGIN:VTIMEZONE
TZID:UTC
BEGIN:STANDARD
TZOFFSETFROM:+0000
TZOFFSETTO:+0000
TZNAME:UTC
DTSTART:20250101T000000
END:STANDARD
END:VTIMEZONE
BEGIN:VEVENT
DTSTART;TZID=UTC:20251211T170000
DTEND;TZID=UTC:20251211T180000
DTSTAMP:20260421T025147
CREATED:20251006T204245Z
LAST-MODIFIED:20251006T204245Z
UID:6464-1765472400-1765476000@jenny-oag.co.uk
SUMMARY:Kingfisher Care Home
DESCRIPTION:
URL:https://jenny-oag.co.uk/event/kingfisher-care-home/
END:VEVENT
END:VCALENDAR