BEGIN:VCALENDAR
VERSION:2.0
PRODID:-//The Music of Jenny Oag - ECPv5.1.4//NONSGML v1.0//EN
CALSCALE:GREGORIAN
METHOD:PUBLISH
X-WR-CALNAME:The Music of Jenny Oag
X-ORIGINAL-URL:https://jenny-oag.co.uk
X-WR-CALDESC:Events for The Music of Jenny Oag
BEGIN:VTIMEZONE
TZID:UTC
BEGIN:STANDARD
TZOFFSETFROM:+0000
TZOFFSETTO:+0000
TZNAME:UTC
DTSTART:20250101T000000
END:STANDARD
END:VTIMEZONE
BEGIN:VEVENT
DTSTART;TZID=UTC:20251204T203000
DTEND;TZID=UTC:20251204T223000
DTSTAMP:20260421T024927
CREATED:20251020T115336Z
LAST-MODIFIED:20251020T115336Z
UID:6477-1764880200-1764887400@jenny-oag.co.uk
SUMMARY:Kings Head Thatcham
DESCRIPTION:
URL:https://jenny-oag.co.uk/event/kings-head-thatcham-6/
LOCATION:The Kings Head 59 The Broadway\, Thatcham RG19 3HP
END:VEVENT
END:VCALENDAR