BEGIN:VCALENDAR
VERSION:2.0
PRODID:-//The Music of Jenny Oag - ECPv5.1.4//NONSGML v1.0//EN
CALSCALE:GREGORIAN
METHOD:PUBLISH
X-WR-CALNAME:The Music of Jenny Oag
X-ORIGINAL-URL:https://jenny-oag.co.uk
X-WR-CALDESC:Events for The Music of Jenny Oag
BEGIN:VTIMEZONE
TZID:UTC
BEGIN:STANDARD
TZOFFSETFROM:+0000
TZOFFSETTO:+0000
TZNAME:UTC
DTSTART:20260101T000000
END:STANDARD
END:VTIMEZONE
BEGIN:VEVENT
DTSTART;TZID=UTC:20260424T193000
DTEND;TZID=UTC:20260424T213000
DTSTAMP:20260420T185210
CREATED:20260125T115624Z
LAST-MODIFIED:20260125T115624Z
UID:6623-1777059000-1777066200@jenny-oag.co.uk
SUMMARY:Milford on Sea Club
DESCRIPTION:
URL:https://jenny-oag.co.uk/event/milford-on-sea-club/
LOCATION:67 High St\, Milford on Sea\, Lymington SO41 0RF
END:VEVENT
END:VCALENDAR