BEGIN:VCALENDAR
VERSION:2.0
PRODID:-//The Music of Jenny Oag - ECPv5.1.4//NONSGML v1.0//EN
CALSCALE:GREGORIAN
METHOD:PUBLISH
X-WR-CALNAME:The Music of Jenny Oag
X-ORIGINAL-URL:https://jenny-oag.co.uk
X-WR-CALDESC:Events for The Music of Jenny Oag
BEGIN:VTIMEZONE
TZID:UTC
BEGIN:STANDARD
TZOFFSETFROM:+0000
TZOFFSETTO:+0000
TZNAME:UTC
DTSTART:20220101T000000
END:STANDARD
END:VTIMEZONE
BEGIN:VEVENT
DTSTART;TZID=UTC:20220813T200000
DTEND;TZID=UTC:20220813T220000
DTSTAMP:20260426T000352
CREATED:20220515T103838Z
LAST-MODIFIED:20220515T103838Z
UID:4713-1660420800-1660428000@jenny-oag.co.uk
SUMMARY:New Forest Ashurst
DESCRIPTION:
URL:https://jenny-oag.co.uk/event/new-forest-ashurst/
LOCATION:New Forest Ashurst\, The New Forest\, Lyndhurst Road\, Ashurst\, Hampshire\,\, SO40 7AA
END:VEVENT
END:VCALENDAR