BEGIN:VCALENDAR
VERSION:2.0
PRODID:-//The Music of Jenny Oag - ECPv5.1.4//NONSGML v1.0//EN
CALSCALE:GREGORIAN
METHOD:PUBLISH
X-WR-CALNAME:The Music of Jenny Oag
X-ORIGINAL-URL:https://jenny-oag.co.uk
X-WR-CALDESC:Events for The Music of Jenny Oag
BEGIN:VTIMEZONE
TZID:UTC
BEGIN:STANDARD
TZOFFSETFROM:+0000
TZOFFSETTO:+0000
TZNAME:UTC
DTSTART:20230101T000000
END:STANDARD
END:VTIMEZONE
BEGIN:VEVENT
DTSTART;TZID=UTC:20230805T210000
DTEND;TZID=UTC:20230805T230000
DTSTAMP:20260425T022120
CREATED:20230129T175127Z
LAST-MODIFIED:20230129T175127Z
UID:5104-1691269200-1691276400@jenny-oag.co.uk
SUMMARY:Polperro Holiday Park
DESCRIPTION:
URL:https://jenny-oag.co.uk/event/polperro-holiday-park/
LOCATION:Polperro Road\, Looe\, Cornwall\, PL13 2JE
END:VEVENT
END:VCALENDAR