BEGIN:VCALENDAR
VERSION:2.0
PRODID:-//The Music of Jenny Oag - ECPv5.1.4//NONSGML v1.0//EN
CALSCALE:GREGORIAN
METHOD:PUBLISH
X-WR-CALNAME:The Music of Jenny Oag
X-ORIGINAL-URL:https://jenny-oag.co.uk
X-WR-CALDESC:Events for The Music of Jenny Oag
BEGIN:VTIMEZONE
TZID:UTC
BEGIN:STANDARD
TZOFFSETFROM:+0000
TZOFFSETTO:+0000
TZNAME:UTC
DTSTART:20260101T000000
END:STANDARD
END:VTIMEZONE
BEGIN:VEVENT
DTSTART;TZID=UTC:20260330T200000
DTEND;TZID=UTC:20260330T220000
DTSTAMP:20260420T190319
CREATED:20260207T144705Z
LAST-MODIFIED:20260207T144705Z
UID:6650-1774900800-1774908000@jenny-oag.co.uk
SUMMARY:Royal Bath Hotel
DESCRIPTION:
URL:https://jenny-oag.co.uk/event/royal-bath-hotel-56/
LOCATION:Royal Bath Hotel Bournemouth
END:VEVENT
END:VCALENDAR