BEGIN:VCALENDAR
VERSION:2.0
PRODID:-//The Music of Jenny Oag - ECPv5.1.4//NONSGML v1.0//EN
CALSCALE:GREGORIAN
METHOD:PUBLISH
X-WR-CALNAME:The Music of Jenny Oag
X-ORIGINAL-URL:https://jenny-oag.co.uk
X-WR-CALDESC:Events for The Music of Jenny Oag
BEGIN:VTIMEZONE
TZID:UTC
BEGIN:STANDARD
TZOFFSETFROM:+0000
TZOFFSETTO:+0000
TZNAME:UTC
DTSTART:20230101T000000
END:STANDARD
END:VTIMEZONE
BEGIN:VEVENT
DTSTART;TZID=UTC:20230212T110000
DTEND;TZID=UTC:20230212T160000
DTSTAMP:20260425T162700
CREATED:20221231T163725Z
LAST-MODIFIED:20221231T163725Z
UID:5050-1676199600-1676217600@jenny-oag.co.uk
SUMMARY:Royal Bath Wedding show
DESCRIPTION:
URL:https://jenny-oag.co.uk/event/royal-bath-wedding-show/
LOCATION:Royal Bath Hotel Bournemouth
END:VEVENT
END:VCALENDAR