BEGIN:VCALENDAR
VERSION:2.0
PRODID:-//The Music of Jenny Oag - ECPv5.1.4//NONSGML v1.0//EN
CALSCALE:GREGORIAN
METHOD:PUBLISH
X-WR-CALNAME:The Music of Jenny Oag
X-ORIGINAL-URL:https://jenny-oag.co.uk
X-WR-CALDESC:Events for The Music of Jenny Oag
BEGIN:VTIMEZONE
TZID:UTC
BEGIN:STANDARD
TZOFFSETFROM:+0000
TZOFFSETTO:+0000
TZNAME:UTC
DTSTART:20240101T000000
END:STANDARD
END:VTIMEZONE
BEGIN:VEVENT
DTSTART;TZID=UTC:20241005T203000
DTEND;TZID=UTC:20241005T233000
DTSTAMP:20260423T205647
CREATED:20240317T112509Z
LAST-MODIFIED:20240317T112509Z
UID:5782-1728160200-1728171000@jenny-oag.co.uk
SUMMARY:Sandford Labour Club
DESCRIPTION:
URL:https://jenny-oag.co.uk/event/sandford-labour-club/
LOCATION:Keysworth Dr\, Sandford\, Wareham BH20 7BD
END:VEVENT
END:VCALENDAR