BEGIN:VCALENDAR
VERSION:2.0
PRODID:-//The Music of Jenny Oag - ECPv5.1.4//NONSGML v1.0//EN
CALSCALE:GREGORIAN
METHOD:PUBLISH
X-WR-CALNAME:The Music of Jenny Oag
X-ORIGINAL-URL:https://jenny-oag.co.uk
X-WR-CALDESC:Events for The Music of Jenny Oag
BEGIN:VTIMEZONE
TZID:UTC
BEGIN:STANDARD
TZOFFSETFROM:+0000
TZOFFSETTO:+0000
TZNAME:UTC
DTSTART:20220101T000000
END:STANDARD
END:VTIMEZONE
BEGIN:VEVENT
DTSTART;TZID=UTC:20220806T200000
DTEND;TZID=UTC:20220806T223000
DTSTAMP:20260426T000359
CREATED:20220802T172311Z
LAST-MODIFIED:20220802T172311Z
UID:4878-1659816000-1659825000@jenny-oag.co.uk
SUMMARY:Shamba Holidays
DESCRIPTION:
URL:https://jenny-oag.co.uk/event/shamba-holidays/
END:VEVENT
END:VCALENDAR