BEGIN:VCALENDAR
VERSION:2.0
PRODID:-//The Music of Jenny Oag - ECPv5.1.4//NONSGML v1.0//EN
CALSCALE:GREGORIAN
METHOD:PUBLISH
X-WR-CALNAME:The Music of Jenny Oag
X-ORIGINAL-URL:https://jenny-oag.co.uk
X-WR-CALDESC:Events for The Music of Jenny Oag
BEGIN:VTIMEZONE
TZID:UTC
BEGIN:STANDARD
TZOFFSETFROM:+0000
TZOFFSETTO:+0000
TZNAME:UTC
DTSTART:20260101T000000
END:STANDARD
END:VTIMEZONE
BEGIN:VEVENT
DTSTART;TZID=UTC:20260613T210000
DTEND;TZID=UTC:20260613T230000
DTSTAMP:20260420T190610
CREATED:20251115T135137Z
LAST-MODIFIED:20251117T232248Z
UID:6503-1781384400-1781391600@jenny-oag.co.uk
SUMMARY:Swanage Con Club
DESCRIPTION:
URL:https://jenny-oag.co.uk/event/swanage-con-club-11/
LOCATION:Swanage Con Club 27 Kings Rd W\, Swanage BH19 1HE
END:VEVENT
END:VCALENDAR