BEGIN:VCALENDAR
VERSION:2.0
PRODID:-//The Music of Jenny Oag - ECPv5.1.4//NONSGML v1.0//EN
CALSCALE:GREGORIAN
METHOD:PUBLISH
X-WR-CALNAME:The Music of Jenny Oag
X-ORIGINAL-URL:https://jenny-oag.co.uk
X-WR-CALDESC:Events for The Music of Jenny Oag
BEGIN:VTIMEZONE
TZID:UTC
BEGIN:STANDARD
TZOFFSETFROM:+0000
TZOFFSETTO:+0000
TZNAME:UTC
DTSTART:20240101T000000
END:STANDARD
END:VTIMEZONE
BEGIN:VEVENT
DTSTART;TZID=UTC:20241208T173000
DTEND;TZID=UTC:20241208T193000
DTSTAMP:20260423T105807
CREATED:20240404T141721Z
LAST-MODIFIED:20240404T141721Z
UID:5820-1733679000-1733686200@jenny-oag.co.uk
SUMMARY:The Anchor Inn
DESCRIPTION:
URL:https://jenny-oag.co.uk/event/the-anchor-inn-2/
LOCATION:46 High Street\, Storrington\, West Sussex\, RH20 4DU
END:VEVENT
END:VCALENDAR