BEGIN:VCALENDAR
VERSION:2.0
PRODID:-//The Music of Jenny Oag - ECPv5.1.4//NONSGML v1.0//EN
CALSCALE:GREGORIAN
METHOD:PUBLISH
X-WR-CALNAME:The Music of Jenny Oag
X-ORIGINAL-URL:https://jenny-oag.co.uk
X-WR-CALDESC:Events for The Music of Jenny Oag
BEGIN:VTIMEZONE
TZID:UTC
BEGIN:STANDARD
TZOFFSETFROM:+0000
TZOFFSETTO:+0000
TZNAME:UTC
DTSTART:20250101T000000
END:STANDARD
END:VTIMEZONE
BEGIN:VEVENT
DTSTART;TZID=UTC:20250919T203000
DTEND;TZID=UTC:20250919T223000
DTSTAMP:20260421T085015
CREATED:20250129T163413Z
LAST-MODIFIED:20250129T163413Z
UID:6237-1758313800-1758321000@jenny-oag.co.uk
SUMMARY:The Avocet Poole
DESCRIPTION:
URL:https://jenny-oag.co.uk/event/the-avocet-poole-10/
LOCATION:The Avocet Poole 58 Station Rd\, Parkstone\, Poole BH14 8UD
END:VEVENT
END:VCALENDAR