BEGIN:VCALENDAR
VERSION:2.0
PRODID:-//The Music of Jenny Oag - ECPv5.1.4//NONSGML v1.0//EN
CALSCALE:GREGORIAN
METHOD:PUBLISH
X-WR-CALNAME:The Music of Jenny Oag
X-ORIGINAL-URL:https://jenny-oag.co.uk
X-WR-CALDESC:Events for The Music of Jenny Oag
BEGIN:VTIMEZONE
TZID:UTC
BEGIN:STANDARD
TZOFFSETFROM:+0000
TZOFFSETTO:+0000
TZNAME:UTC
DTSTART:20240101T000000
END:STANDARD
END:VTIMEZONE
BEGIN:VEVENT
DTSTART;TZID=UTC:20240927T203000
DTEND;TZID=UTC:20240927T230000
DTSTAMP:20260423T205239
CREATED:20240910T234033Z
LAST-MODIFIED:20240910T234033Z
UID:5954-1727469000-1727478000@jenny-oag.co.uk
SUMMARY:The Cricketers Inn
DESCRIPTION:
URL:https://jenny-oag.co.uk/event/the-cricketers-inn/
LOCATION:The Cricketers Inn  Longparish\, Andover SP11 6PZ
END:VEVENT
END:VCALENDAR