BEGIN:VCALENDAR
VERSION:2.0
PRODID:-//The Music of Jenny Oag - ECPv5.1.4//NONSGML v1.0//EN
CALSCALE:GREGORIAN
METHOD:PUBLISH
X-WR-CALNAME:The Music of Jenny Oag
X-ORIGINAL-URL:https://jenny-oag.co.uk
X-WR-CALDESC:Events for The Music of Jenny Oag
BEGIN:VTIMEZONE
TZID:UTC
BEGIN:STANDARD
TZOFFSETFROM:+0000
TZOFFSETTO:+0000
TZNAME:UTC
DTSTART:20240101T000000
END:STANDARD
END:VTIMEZONE
BEGIN:VEVENT
DTSTART;TZID=UTC:20240830T210000
DTEND;TZID=UTC:20240830T233000
DTSTAMP:20260423T224525
CREATED:20240312T173330Z
LAST-MODIFIED:20240312T173330Z
UID:5771-1725051600-1725060600@jenny-oag.co.uk
SUMMARY:The Dolphin Blandford
DESCRIPTION:
URL:https://jenny-oag.co.uk/event/the-dolphin-blandford/
LOCATION:The Dolphin\, 42 East Street\, Blandford Forum\, DT11 7DR
END:VEVENT
END:VCALENDAR