BEGIN:VCALENDAR
VERSION:2.0
PRODID:-//The Music of Jenny Oag - ECPv5.1.4//NONSGML v1.0//EN
CALSCALE:GREGORIAN
METHOD:PUBLISH
X-WR-CALNAME:The Music of Jenny Oag
X-ORIGINAL-URL:https://jenny-oag.co.uk
X-WR-CALDESC:Events for The Music of Jenny Oag
BEGIN:VTIMEZONE
TZID:UTC
BEGIN:STANDARD
TZOFFSETFROM:+0000
TZOFFSETTO:+0000
TZNAME:UTC
DTSTART:20250101T000000
END:STANDARD
END:VTIMEZONE
BEGIN:VEVENT
DTSTART;TZID=UTC:20250629T150000
DTEND;TZID=UTC:20250629T170000
DTSTAMP:20260420T195727
CREATED:20250616T175709Z
LAST-MODIFIED:20250616T175709Z
UID:6367-1751209200-1751216400@jenny-oag.co.uk
SUMMARY:The Dorset Solider
DESCRIPTION:
URL:https://jenny-oag.co.uk/event/the-dorset-solider/
LOCATION:The Dorset Soldier 117 Wareham Rd\, Corfe Mullen\, Wimborne BH21 3JZ
END:VEVENT
END:VCALENDAR