BEGIN:VCALENDAR
VERSION:2.0
PRODID:-//The Music of Jenny Oag - ECPv5.1.4//NONSGML v1.0//EN
CALSCALE:GREGORIAN
METHOD:PUBLISH
X-WR-CALNAME:The Music of Jenny Oag
X-ORIGINAL-URL:https://jenny-oag.co.uk
X-WR-CALDESC:Events for The Music of Jenny Oag
BEGIN:VTIMEZONE
TZID:UTC
BEGIN:STANDARD
TZOFFSETFROM:+0000
TZOFFSETTO:+0000
TZNAME:UTC
DTSTART:20240101T000000
END:STANDARD
END:VTIMEZONE
BEGIN:VEVENT
DTSTART;TZID=UTC:20241103T163000
DTEND;TZID=UTC:20241103T180000
DTSTAMP:20260423T163006
CREATED:20240402T195028Z
LAST-MODIFIED:20240402T195028Z
UID:5814-1730651400-1730656800@jenny-oag.co.uk
SUMMARY:The Farmers\, Lancing
DESCRIPTION:
URL:https://jenny-oag.co.uk/event/the-farmers-lancing/
LOCATION:The Farmers\, 17 South Street\, Lancing\, West Sussex\, BN15 8AE
END:VEVENT
END:VCALENDAR