BEGIN:VCALENDAR
VERSION:2.0
PRODID:-//The Music of Jenny Oag - ECPv5.1.4//NONSGML v1.0//EN
CALSCALE:GREGORIAN
METHOD:PUBLISH
X-WR-CALNAME:The Music of Jenny Oag
X-ORIGINAL-URL:https://jenny-oag.co.uk
X-WR-CALDESC:Events for The Music of Jenny Oag
BEGIN:VTIMEZONE
TZID:UTC
BEGIN:STANDARD
TZOFFSETFROM:+0000
TZOFFSETTO:+0000
TZNAME:UTC
DTSTART:20260101T000000
END:STANDARD
END:VTIMEZONE
BEGIN:VEVENT
DTSTART;TZID=UTC:20260925T210000
DTEND;TZID=UTC:20260925T230000
DTSTAMP:20260421T003808
CREATED:20260328T124158Z
LAST-MODIFIED:20260328T124158Z
UID:6730-1790370000-1790377200@jenny-oag.co.uk
SUMMARY:The Gloster
DESCRIPTION:
URL:https://jenny-oag.co.uk/event/the-gloster/
LOCATION:The Gloster O Gorman Ave\, Farnborough GU14 7DL
END:VEVENT
END:VCALENDAR