BEGIN:VCALENDAR
VERSION:2.0
PRODID:-//The Music of Jenny Oag - ECPv5.1.4//NONSGML v1.0//EN
CALSCALE:GREGORIAN
METHOD:PUBLISH
X-WR-CALNAME:The Music of Jenny Oag
X-ORIGINAL-URL:https://jenny-oag.co.uk
X-WR-CALDESC:Events for The Music of Jenny Oag
BEGIN:VTIMEZONE
TZID:UTC
BEGIN:STANDARD
TZOFFSETFROM:+0000
TZOFFSETTO:+0000
TZNAME:UTC
DTSTART:20220101T000000
END:STANDARD
END:VTIMEZONE
BEGIN:VEVENT
DTSTART;TZID=UTC:20220605T170000
DTEND;TZID=UTC:20220605T190000
DTSTAMP:20260426T034227
CREATED:20220430T120333Z
LAST-MODIFIED:20220513T111029Z
UID:4692-1654448400-1654455600@jenny-oag.co.uk
SUMMARY:Private Event
DESCRIPTION:
URL:https://jenny-oag.co.uk/event/the-hartnoll-hotel/
END:VEVENT
END:VCALENDAR