BEGIN:VCALENDAR
VERSION:2.0
PRODID:-//The Music of Jenny Oag - ECPv5.1.4//NONSGML v1.0//EN
CALSCALE:GREGORIAN
METHOD:PUBLISH
X-WR-CALNAME:The Music of Jenny Oag
X-ORIGINAL-URL:https://jenny-oag.co.uk
X-WR-CALDESC:Events for The Music of Jenny Oag
BEGIN:VTIMEZONE
TZID:UTC
BEGIN:STANDARD
TZOFFSETFROM:+0000
TZOFFSETTO:+0000
TZNAME:UTC
DTSTART:20250101T000000
END:STANDARD
END:VTIMEZONE
BEGIN:VEVENT
DTSTART;TZID=UTC:20251005T160000
DTEND;TZID=UTC:20251005T180000
DTSTAMP:20260421T064351
CREATED:20250831T124425Z
LAST-MODIFIED:20250831T124425Z
UID:6419-1759680000-1759687200@jenny-oag.co.uk
SUMMARY:The Lion\, Nyetimber
DESCRIPTION:
URL:https://jenny-oag.co.uk/event/the-lion-nyetimber-3/
LOCATION:The Lion\, Nyetimber Lane\, Nyetimber\, Bognor Regis\, West Sussex\, PO21 3JX
END:VEVENT
END:VCALENDAR