BEGIN:VCALENDAR
VERSION:2.0
PRODID:-//The Music of Jenny Oag - ECPv5.1.4//NONSGML v1.0//EN
CALSCALE:GREGORIAN
METHOD:PUBLISH
X-WR-CALNAME:The Music of Jenny Oag
X-ORIGINAL-URL:https://jenny-oag.co.uk
X-WR-CALDESC:Events for The Music of Jenny Oag
BEGIN:VTIMEZONE
TZID:UTC
BEGIN:STANDARD
TZOFFSETFROM:+0000
TZOFFSETTO:+0000
TZNAME:UTC
DTSTART:20250101T000000
END:STANDARD
END:VTIMEZONE
BEGIN:VEVENT
DTSTART;TZID=UTC:20250425T160000
DTEND;TZID=UTC:20250425T180000
DTSTAMP:20260421T185431
CREATED:20241007T132217Z
LAST-MODIFIED:20241007T132217Z
UID:6016-1745596800-1745604000@jenny-oag.co.uk
SUMMARY:The Lion Nyetimber
DESCRIPTION:
URL:https://jenny-oag.co.uk/event/the-lion-nyetimber/
LOCATION:The Lion\, Nyetimber Lane\, Nyetimber\, Bognor Regis\, West Sussex\, PO21 3JX
END:VEVENT
END:VCALENDAR