BEGIN:VCALENDAR
VERSION:2.0
PRODID:-//The Music of Jenny Oag - ECPv5.1.4//NONSGML v1.0//EN
CALSCALE:GREGORIAN
METHOD:PUBLISH
X-WR-CALNAME:The Music of Jenny Oag
X-ORIGINAL-URL:https://jenny-oag.co.uk
X-WR-CALDESC:Events for The Music of Jenny Oag
BEGIN:VTIMEZONE
TZID:UTC
BEGIN:STANDARD
TZOFFSETFROM:+0000
TZOFFSETTO:+0000
TZNAME:UTC
DTSTART:20220101T000000
END:STANDARD
END:VTIMEZONE
BEGIN:VEVENT
DTSTART;TZID=UTC:20220715T203000
DTEND;TZID=UTC:20220715T223000
DTSTAMP:20260426T015503
CREATED:20220512T202108Z
LAST-MODIFIED:20220512T202108Z
UID:4704-1657917000-1657924200@jenny-oag.co.uk
SUMMARY:The Monmouth Ash\, Verwood
DESCRIPTION:
URL:https://jenny-oag.co.uk/event/the-monmouth-ash-verwood/
LOCATION:The Monmouth Ash\, The Monmouth Ash\, 93 Manor Rd\, Verwood\, BH31 6DT
END:VEVENT
END:VCALENDAR