BEGIN:VCALENDAR
VERSION:2.0
PRODID:-//The Music of Jenny Oag - ECPv5.1.4//NONSGML v1.0//EN
CALSCALE:GREGORIAN
METHOD:PUBLISH
X-WR-CALNAME:The Music of Jenny Oag
X-ORIGINAL-URL:https://jenny-oag.co.uk
X-WR-CALDESC:Events for The Music of Jenny Oag
BEGIN:VTIMEZONE
TZID:UTC
BEGIN:STANDARD
TZOFFSETFROM:+0000
TZOFFSETTO:+0000
TZNAME:UTC
DTSTART:20240101T000000
END:STANDARD
END:VTIMEZONE
BEGIN:VEVENT
DTSTART;TZID=UTC:20240330T203000
DTEND;TZID=UTC:20240330T223000
DTSTAMP:20260424T113456
CREATED:20240302T165305Z
LAST-MODIFIED:20240302T165305Z
UID:5757-1711830600-1711837800@jenny-oag.co.uk
SUMMARY:The New Moon
DESCRIPTION:
URL:https://jenny-oag.co.uk/event/the-new-moon/
LOCATION:The New Moon\, Brighton Road\, Southgate\, Crawley\, RH10 6SZ
END:VEVENT
END:VCALENDAR