BEGIN:VCALENDAR
VERSION:2.0
PRODID:-//The Music of Jenny Oag - ECPv5.1.4//NONSGML v1.0//EN
CALSCALE:GREGORIAN
METHOD:PUBLISH
X-WR-CALNAME:The Music of Jenny Oag
X-ORIGINAL-URL:https://jenny-oag.co.uk
X-WR-CALDESC:Events for The Music of Jenny Oag
BEGIN:VTIMEZONE
TZID:UTC
BEGIN:STANDARD
TZOFFSETFROM:+0000
TZOFFSETTO:+0000
TZNAME:UTC
DTSTART:20260101T000000
END:STANDARD
END:VTIMEZONE
BEGIN:VEVENT
DTSTART;TZID=UTC:20260704T210000
DTEND;TZID=UTC:20260704T230000
DTSTAMP:20260420T190209
CREATED:20260122T215922Z
LAST-MODIFIED:20260122T215922Z
UID:6615-1783198800-1783206000@jenny-oag.co.uk
SUMMARY:The Railway Lancing
DESCRIPTION:
URL:https://jenny-oag.co.uk/event/the-railway-lancing-4/
LOCATION:Railway Lancing 1 North Rd\, Lancing BN15 9AH
END:VEVENT
END:VCALENDAR