BEGIN:VCALENDAR
VERSION:2.0
PRODID:-//The Music of Jenny Oag - ECPv5.1.4//NONSGML v1.0//EN
CALSCALE:GREGORIAN
METHOD:PUBLISH
X-WR-CALNAME:The Music of Jenny Oag
X-ORIGINAL-URL:https://jenny-oag.co.uk
X-WR-CALDESC:Events for The Music of Jenny Oag
BEGIN:VTIMEZONE
TZID:UTC
BEGIN:STANDARD
TZOFFSETFROM:+0000
TZOFFSETTO:+0000
TZNAME:UTC
DTSTART:20260101T000000
END:STANDARD
END:VTIMEZONE
BEGIN:VEVENT
DTSTART;TZID=UTC:20260815T203000
DTEND;TZID=UTC:20260815T223000
DTSTAMP:20260420T230100
CREATED:20251009T151517Z
LAST-MODIFIED:20251009T151517Z
UID:6469-1786825800-1786833000@jenny-oag.co.uk
SUMMARY:The Ship Christchurch
DESCRIPTION:
URL:https://jenny-oag.co.uk/event/the-ship-christchurch-3/
LOCATION:The Ship 48 High St\, Christchurch BH23 1BN
END:VEVENT
END:VCALENDAR