BEGIN:VCALENDAR
VERSION:2.0
PRODID:-//The Music of Jenny Oag - ECPv5.1.4//NONSGML v1.0//EN
CALSCALE:GREGORIAN
METHOD:PUBLISH
X-WR-CALNAME:The Music of Jenny Oag
X-ORIGINAL-URL:https://jenny-oag.co.uk
X-WR-CALDESC:Events for The Music of Jenny Oag
BEGIN:VTIMEZONE
TZID:UTC
BEGIN:STANDARD
TZOFFSETFROM:+0000
TZOFFSETTO:+0000
TZNAME:UTC
DTSTART:20260101T000000
END:STANDARD
END:VTIMEZONE
BEGIN:VEVENT
DTSTART;TZID=UTC:20260125T150000
DTEND;TZID=UTC:20260125T170000
DTSTAMP:20260423T220125
CREATED:20260122T085331Z
LAST-MODIFIED:20260122T085331Z
UID:6613-1769353200-1769360400@jenny-oag.co.uk
SUMMARY:The Stags Head
DESCRIPTION:
URL:https://jenny-oag.co.uk/event/the-stags-head-4/
LOCATION:The Stags Head\, The Square\, Westbourne\, Emsworth\, Hampshire\, PO10 8UE
END:VEVENT
END:VCALENDAR