BEGIN:VCALENDAR
VERSION:2.0
PRODID:-//The Music of Jenny Oag - ECPv5.1.4//NONSGML v1.0//EN
CALSCALE:GREGORIAN
METHOD:PUBLISH
X-WR-CALNAME:The Music of Jenny Oag
X-ORIGINAL-URL:https://jenny-oag.co.uk
X-WR-CALDESC:Events for The Music of Jenny Oag
BEGIN:VTIMEZONE
TZID:UTC
BEGIN:STANDARD
TZOFFSETFROM:+0000
TZOFFSETTO:+0000
TZNAME:UTC
DTSTART:20240101T000000
END:STANDARD
END:VTIMEZONE
BEGIN:VEVENT
DTSTART;TZID=UTC:20240413T200000
DTEND;TZID=UTC:20240413T220000
DTSTAMP:20260424T101157
CREATED:20240124T122117Z
LAST-MODIFIED:20240124T122117Z
UID:5650-1713038400-1713045600@jenny-oag.co.uk
SUMMARY:The Wheatsheaf Bognor Regis
DESCRIPTION:
URL:https://jenny-oag.co.uk/event/the-wheatsheaf-bognor-regis/
LOCATION:The Wheatsheaf Bognor Regis 85 Hawthorn Road\, Bognor Regis\, PO21 2BE
END:VEVENT
END:VCALENDAR