BEGIN:VCALENDAR
VERSION:2.0
PRODID:-//The Music of Jenny Oag - ECPv5.1.4//NONSGML v1.0//EN
CALSCALE:GREGORIAN
METHOD:PUBLISH
X-WR-CALNAME:The Music of Jenny Oag
X-ORIGINAL-URL:https://jenny-oag.co.uk
X-WR-CALDESC:Events for The Music of Jenny Oag
BEGIN:VTIMEZONE
TZID:UTC
BEGIN:STANDARD
TZOFFSETFROM:+0000
TZOFFSETTO:+0000
TZNAME:UTC
DTSTART:20250101T000000
END:STANDARD
END:VTIMEZONE
BEGIN:VEVENT
DTSTART;TZID=UTC:20251025T200000
DTEND;TZID=UTC:20251025T220000
DTSTAMP:20260421T050136
CREATED:20250415T141108Z
LAST-MODIFIED:20250415T141108Z
UID:6316-1761422400-1761429600@jenny-oag.co.uk
SUMMARY:The Wheatsheaf New Milton
DESCRIPTION:
URL:https://jenny-oag.co.uk/event/the-wheatsheaf-new-milton/
LOCATION:the Wheatshef Pub\, Christchurch Rd\, New Milton\, BH25 6QJ
END:VEVENT
END:VCALENDAR