BEGIN:VCALENDAR
VERSION:2.0
PRODID:-//The Music of Jenny Oag - ECPv5.1.4//NONSGML v1.0//EN
CALSCALE:GREGORIAN
METHOD:PUBLISH
X-WR-CALNAME:The Music of Jenny Oag
X-ORIGINAL-URL:https://jenny-oag.co.uk
X-WR-CALDESC:Events for The Music of Jenny Oag
BEGIN:VTIMEZONE
TZID:UTC
BEGIN:STANDARD
TZOFFSETFROM:+0000
TZOFFSETTO:+0000
TZNAME:UTC
DTSTART:20230101T000000
END:STANDARD
END:VTIMEZONE
BEGIN:VEVENT
DTSTART;TZID=UTC:20230311T200000
DTEND;TZID=UTC:20230311T220000
DTSTAMP:20260425T145958
CREATED:20230103T133342Z
LAST-MODIFIED:20230103T133342Z
UID:5054-1678564800-1678572000@jenny-oag.co.uk
SUMMARY:The Yachtsman Pub Hamworthy
DESCRIPTION:
URL:https://jenny-oag.co.uk/event/the-yachtsman-pub-hamworthy/
LOCATION:Lake Dr\, Hamworthy\, Poole BH15 4LW
END:VEVENT
END:VCALENDAR