BEGIN:VCALENDAR
VERSION:2.0
PRODID:-//The Music of Jenny Oag - ECPv5.1.4//NONSGML v1.0//EN
CALSCALE:GREGORIAN
METHOD:PUBLISH
X-WR-CALNAME:The Music of Jenny Oag
X-ORIGINAL-URL:https://jenny-oag.co.uk
X-WR-CALDESC:Events for The Music of Jenny Oag
BEGIN:VTIMEZONE
TZID:UTC
BEGIN:STANDARD
TZOFFSETFROM:+0000
TZOFFSETTO:+0000
TZNAME:UTC
DTSTART:20220101T000000
END:STANDARD
END:VTIMEZONE
BEGIN:VEVENT
DTSTART;TZID=UTC:20221023T200000
DTEND;TZID=UTC:20221023T220000
DTSTAMP:20260425T202802
CREATED:20220215T173623Z
LAST-MODIFIED:20220215T173623Z
UID:4607-1666555200-1666562400@jenny-oag.co.uk
SUMMARY:Weymouth Bay Haven Holiday Park
DESCRIPTION:
URL:https://jenny-oag.co.uk/event/weymouth-bay-haven-holiday-park-2/
END:VEVENT
END:VCALENDAR