BEGIN:VCALENDAR
VERSION:2.0
PRODID:-//The Music of Jenny Oag - ECPv5.1.4//NONSGML v1.0//EN
CALSCALE:GREGORIAN
METHOD:PUBLISH
X-WR-CALNAME:The Music of Jenny Oag
X-ORIGINAL-URL:https://jenny-oag.co.uk
X-WR-CALDESC:Events for The Music of Jenny Oag
BEGIN:VTIMEZONE
TZID:UTC
BEGIN:STANDARD
TZOFFSETFROM:+0000
TZOFFSETTO:+0000
TZNAME:UTC
DTSTART:20230101T000000
END:STANDARD
END:VTIMEZONE
BEGIN:VEVENT
DTSTART;TZID=UTC:20230424T210000
DTEND;TZID=UTC:20230424T220000
DTSTAMP:20260425T112608
CREATED:20230131T174712Z
LAST-MODIFIED:20230131T174712Z
UID:5114-1682370000-1682373600@jenny-oag.co.uk
SUMMARY:Weymouth Bay Haven Holidays
DESCRIPTION:
URL:https://jenny-oag.co.uk/event/weymouth-bay-haven-holidays/
END:VEVENT
END:VCALENDAR