BEGIN:VCALENDAR
VERSION:2.0
PRODID:-//The Music of Jenny Oag - ECPv5.1.4//NONSGML v1.0//EN
CALSCALE:GREGORIAN
METHOD:PUBLISH
X-WR-CALNAME:The Music of Jenny Oag
X-ORIGINAL-URL:https://jenny-oag.co.uk
X-WR-CALDESC:Events for The Music of Jenny Oag
BEGIN:VTIMEZONE
TZID:UTC
BEGIN:STANDARD
TZOFFSETFROM:+0000
TZOFFSETTO:+0000
TZNAME:UTC
DTSTART:20230101T000000
END:STANDARD
END:VTIMEZONE
BEGIN:VEVENT
DTSTART;TZID=UTC:20231027T200000
DTEND;TZID=UTC:20231027T220000
DTSTAMP:20260424T210453
CREATED:20230910T175039Z
LAST-MODIFIED:20230910T175039Z
UID:5463-1698436800-1698444000@jenny-oag.co.uk
SUMMARY:Woolpack Sopley Halloween Night
DESCRIPTION:
URL:https://jenny-oag.co.uk/event/woolpack-sopley-halloween-night/
LOCATION:The Woolpack\, Sopley\, Christchurch\, Dorset\, BH23 7AX
END:VEVENT
END:VCALENDAR