BEGIN:VCALENDAR
VERSION:2.0
PRODID:-//The Music of Jenny Oag - ECPv5.1.4//NONSGML v1.0//EN
CALSCALE:GREGORIAN
METHOD:PUBLISH
X-WR-CALNAME:The Music of Jenny Oag
X-ORIGINAL-URL:https://jenny-oag.co.uk
X-WR-CALDESC:Events for The Music of Jenny Oag
BEGIN:VTIMEZONE
TZID:UTC
BEGIN:STANDARD
TZOFFSETFROM:+0000
TZOFFSETTO:+0000
TZNAME:UTC
DTSTART:20240101T000000
END:STANDARD
END:VTIMEZONE
BEGIN:VEVENT
DTSTART;TZID=UTC:20240113T203000
DTEND;TZID=UTC:20240113T223000
DTSTAMP:20260423T214642
CREATED:20231130T092856Z
LAST-MODIFIED:20231130T092856Z
UID:5548-1705177800-1705185000@jenny-oag.co.uk
SUMMARY:The Talisman Pub & Restaurant Park Gate
DESCRIPTION:
URL:https://jenny-oag.co.uk/event/the-talisman-pub-restaurant-park-gate/
LOCATION:3 Bridge Rd\, Park Gate\, Southampton\, SO31 7GD
END:VEVENT
BEGIN:VEVENT
DTSTART;TZID=UTC:20240114T203000
DTEND;TZID=UTC:20240114T223000
DTSTAMP:20260423T214642
CREATED:20231209T163807Z
LAST-MODIFIED:20231209T163807Z
UID:5554-1705264200-1705271400@jenny-oag.co.uk
SUMMARY:Court Royal - Private Event
DESCRIPTION:
URL:https://jenny-oag.co.uk/event/court-royal-private-event-3/
END:VEVENT
BEGIN:VEVENT
DTSTART;TZID=UTC:20240120T203000
DTEND;TZID=UTC:20240120T230000
DTSTAMP:20260423T214642
CREATED:20240104T092128Z
LAST-MODIFIED:20240104T092128Z
UID:5577-1705782600-1705791600@jenny-oag.co.uk
SUMMARY:ROYAL NAVAL ASSOCIATION
DESCRIPTION:
URL:https://jenny-oag.co.uk/event/royal-naval-association/
END:VEVENT
BEGIN:VEVENT
DTSTART;TZID=UTC:20240125T203000
DTEND;TZID=UTC:20240125T223000
DTSTAMP:20260423T214642
CREATED:20231209T163841Z
LAST-MODIFIED:20231209T163841Z
UID:5556-1706214600-1706221800@jenny-oag.co.uk
SUMMARY:Court Royal - Private Event
DESCRIPTION:
URL:https://jenny-oag.co.uk/event/court-royal-private-event-4/
END:VEVENT
BEGIN:VEVENT
DTSTART;TZID=UTC:20240126T200000
DTEND;TZID=UTC:20240126T220000
DTSTAMP:20260423T214642
CREATED:20231028T204018Z
LAST-MODIFIED:20231028T204238Z
UID:5506-1706299200-1706306400@jenny-oag.co.uk
SUMMARY:Burn Street Inn
DESCRIPTION:
URL:https://jenny-oag.co.uk/event/burn-sweet-inn/
LOCATION:Burn Street Inn 18 Burns St\, Cannock WS11 6DR
END:VEVENT
BEGIN:VEVENT
DTSTART;TZID=UTC:20240127T210000
DTEND;TZID=UTC:20240127T230000
DTSTAMP:20260423T214642
CREATED:20230914T094148Z
LAST-MODIFIED:20230914T094148Z
UID:5470-1706389200-1706396400@jenny-oag.co.uk
SUMMARY:Swanage Con Club
DESCRIPTION:
URL:https://jenny-oag.co.uk/event/swanage-con-club-6/
LOCATION:Swanage Con Club 27 Kings Rd W\, Swanage BH19 1HE
END:VEVENT
BEGIN:VEVENT
DTSTART;TZID=UTC:20240203T210000
DTEND;TZID=UTC:20240203T233000
DTSTAMP:20260423T214642
CREATED:20240105T161924Z
LAST-MODIFIED:20240105T163317Z
UID:5632-1706994000-1707003000@jenny-oag.co.uk
SUMMARY:The Poppy Club Mitcham
DESCRIPTION:
URL:https://jenny-oag.co.uk/event/the-poppy-club-mitcham/
LOCATION:26 St Mark’s Rd\, Mitcham CR4 2LF
END:VEVENT
END:VCALENDAR