BEGIN:VCALENDAR
VERSION:2.0
PRODID:-//The Music of Jenny Oag - ECPv5.1.4//NONSGML v1.0//EN
CALSCALE:GREGORIAN
METHOD:PUBLISH
X-WR-CALNAME:The Music of Jenny Oag
X-ORIGINAL-URL:https://jenny-oag.co.uk
X-WR-CALDESC:Events for The Music of Jenny Oag
BEGIN:VTIMEZONE
TZID:UTC
BEGIN:STANDARD
TZOFFSETFROM:+0000
TZOFFSETTO:+0000
TZNAME:UTC
DTSTART:20240101T000000
END:STANDARD
END:VTIMEZONE
BEGIN:VEVENT
DTSTART;TZID=UTC:20240502T200000
DTEND;TZID=UTC:20240502T220000
DTSTAMP:20260425T180154
CREATED:20240318T141752Z
LAST-MODIFIED:20240318T141752Z
UID:5797-1714680000-1714687200@jenny-oag.co.uk
SUMMARY:Carrington Hotel
DESCRIPTION:
URL:https://jenny-oag.co.uk/event/carrington-hotel-43/
END:VEVENT
BEGIN:VEVENT
DTSTART;TZID=UTC:20240503T203000
DTEND;TZID=UTC:20240503T223000
DTSTAMP:20260425T180154
CREATED:20240318T111259Z
LAST-MODIFIED:20240318T111259Z
UID:5788-1714768200-1714775400@jenny-oag.co.uk
SUMMARY:The Avocet Poole
DESCRIPTION:
URL:https://jenny-oag.co.uk/event/the-avocet-poole-8/
LOCATION:The Avocet Poole 58 Station Rd\, Parkstone\, Poole BH14 8UD
END:VEVENT
BEGIN:VEVENT
DTSTART;TZID=UTC:20240504T170000
DTEND;TZID=UTC:20240504T190000
DTSTAMP:20260425T180154
CREATED:20240212T145128Z
LAST-MODIFIED:20240213T110812Z
UID:5709-1714842000-1714849200@jenny-oag.co.uk
SUMMARY:Private Event
DESCRIPTION:
URL:https://jenny-oag.co.uk/event/private-event-10/
END:VEVENT
BEGIN:VEVENT
DTSTART;TZID=UTC:20240505T120000
DTEND;TZID=UTC:20240505T150000
DTSTAMP:20260425T180154
CREATED:20240304T110620Z
LAST-MODIFIED:20240304T110620Z
UID:5766-1714910400-1714921200@jenny-oag.co.uk
SUMMARY:Private Event
DESCRIPTION:
URL:https://jenny-oag.co.uk/event/private-event-11/
END:VEVENT
BEGIN:VEVENT
DTSTART;TZID=UTC:20240505T203000
DTEND;TZID=UTC:20240505T223000
DTSTAMP:20260425T180154
CREATED:20240105T160328Z
LAST-MODIFIED:20240105T160328Z
UID:5589-1714941000-1714948200@jenny-oag.co.uk
SUMMARY:Court Royal Hotel - Private
DESCRIPTION:
URL:https://jenny-oag.co.uk/event/court-royal-hotel-private-5/
END:VEVENT
BEGIN:VEVENT
DTSTART;TZID=UTC:20240506T200000
DTEND;TZID=UTC:20240506T220000
DTSTAMP:20260425T180154
CREATED:20240401T111006Z
LAST-MODIFIED:20240401T111006Z
UID:5812-1715025600-1715032800@jenny-oag.co.uk
SUMMARY:Royal Bath Hotel
DESCRIPTION:
URL:https://jenny-oag.co.uk/event/royal-bath-hotel-35/
END:VEVENT
BEGIN:VEVENT
DTSTART;TZID=UTC:20240510T200000
DTEND;TZID=UTC:20240510T230000
DTSTAMP:20260425T180154
CREATED:20240224T005802Z
LAST-MODIFIED:20240224T005802Z
UID:5740-1715371200-1715382000@jenny-oag.co.uk
SUMMARY:6 Barrels
DESCRIPTION:
URL:https://jenny-oag.co.uk/event/6-barrels-2/
LOCATION:6 Barrels 31 Salisbury Rd\, Totton\, Southampton SO40 3HX
END:VEVENT
BEGIN:VEVENT
DTSTART;TZID=UTC:20240511T203000
DTEND;TZID=UTC:20240511T230000
DTSTAMP:20260425T180154
CREATED:20240320T143432Z
LAST-MODIFIED:20240320T143432Z
UID:5804-1715459400-1715468400@jenny-oag.co.uk
SUMMARY:RNA Waterlooville
DESCRIPTION:
URL:https://jenny-oag.co.uk/event/rna-waterlooville/
END:VEVENT
BEGIN:VEVENT
DTSTART;TZID=UTC:20240517T203000
DTEND;TZID=UTC:20240517T223000
DTSTAMP:20260425T180154
CREATED:20240105T160426Z
LAST-MODIFIED:20240105T160426Z
UID:5591-1715977800-1715985000@jenny-oag.co.uk
SUMMARY:Court Royal Hotel - Private
DESCRIPTION:
URL:https://jenny-oag.co.uk/event/court-royal-hotel-private-6/
END:VEVENT
BEGIN:VEVENT
DTSTART;TZID=UTC:20240518T193000
DTEND;TZID=UTC:20240518T213000
DTSTAMP:20260425T180154
CREATED:20240202T164650Z
LAST-MODIFIED:20240202T164650Z
UID:5679-1716060600-1716067800@jenny-oag.co.uk
SUMMARY:Marsham Court Hotel
DESCRIPTION:
URL:https://jenny-oag.co.uk/event/marsham-court-hotel-3/
LOCATION:Marsham Court Hotel 3 Russell Cotes Rd\, East Cliff\, Bournemouth BH1 3AB
END:VEVENT
BEGIN:VEVENT
DTSTART;TZID=UTC:20240519T160000
DTEND;TZID=UTC:20240519T180000
DTSTAMP:20260425T180154
CREATED:20240517T092024Z
LAST-MODIFIED:20240517T092024Z
UID:5881-1716134400-1716141600@jenny-oag.co.uk
SUMMARY:The Stags Head Emsworth
DESCRIPTION:
URL:https://jenny-oag.co.uk/event/the-stags-head-emsworth/
LOCATION:The Stags Head\, The Square\, Westbourne\, Emsworth\, Hampshire\, PO10 8UE
END:VEVENT
BEGIN:VEVENT
DTSTART;TZID=UTC:20240523T200000
DTEND;TZID=UTC:20240523T220000
DTSTAMP:20260425T180154
CREATED:20231115T092747Z
LAST-MODIFIED:20231115T092747Z
UID:5532-1716494400-1716501600@jenny-oag.co.uk
SUMMARY:Royal Bath Hotel
DESCRIPTION:
URL:https://jenny-oag.co.uk/event/royal-bath-hotel-27/
LOCATION:Royal Bath Hotel Bournemouth
END:VEVENT
BEGIN:VEVENT
DTSTART;TZID=UTC:20240524T200000
DTEND;TZID=UTC:20240524T220000
DTSTAMP:20260425T180154
CREATED:20240412T151442Z
LAST-MODIFIED:20240412T151442Z
UID:5836-1716580800-1716588000@jenny-oag.co.uk
SUMMARY:The Roebuck Winchester
DESCRIPTION:
URL:https://jenny-oag.co.uk/event/the-roebuck-winchester/
LOCATION:The Roebuck\, 57 Stockbridge Rd\, Winchester SO22 6RP
END:VEVENT
BEGIN:VEVENT
DTSTART;TZID=UTC:20240525T210000
DTEND;TZID=UTC:20240525T230000
DTSTAMP:20260425T180154
CREATED:20240129T170448Z
LAST-MODIFIED:20240129T170448Z
UID:5671-1716670800-1716678000@jenny-oag.co.uk
SUMMARY:Railway Lancing
DESCRIPTION:
URL:https://jenny-oag.co.uk/event/railway-lancing/
LOCATION:Railway Lancing 1 North Rd\, Lancing BN15 9AH
END:VEVENT
BEGIN:VEVENT
DTSTART;TZID=UTC:20240526T203000
DTEND;TZID=UTC:20240526T223000
DTSTAMP:20260425T180154
CREATED:20240105T160454Z
LAST-MODIFIED:20240105T160454Z
UID:5593-1716755400-1716762600@jenny-oag.co.uk
SUMMARY:Court Royal Hotel - Private
DESCRIPTION:
URL:https://jenny-oag.co.uk/event/court-royal-hotel-private-7/
END:VEVENT
END:VCALENDAR