BEGIN:VCALENDAR
VERSION:2.0
PRODID:-//The Music of Jenny Oag - ECPv5.1.4//NONSGML v1.0//EN
CALSCALE:GREGORIAN
METHOD:PUBLISH
X-WR-CALNAME:The Music of Jenny Oag
X-ORIGINAL-URL:https://jenny-oag.co.uk
X-WR-CALDESC:Events for The Music of Jenny Oag
BEGIN:VTIMEZONE
TZID:UTC
BEGIN:STANDARD
TZOFFSETFROM:+0000
TZOFFSETTO:+0000
TZNAME:UTC
DTSTART:20240101T000000
END:STANDARD
END:VTIMEZONE
BEGIN:VEVENT
DTSTART;TZID=UTC:20240607T200000
DTEND;TZID=UTC:20240607T220000
DTSTAMP:20260425T160831
CREATED:20240102T163758Z
LAST-MODIFIED:20240102T163758Z
UID:5572-1717790400-1717797600@jenny-oag.co.uk
SUMMARY:Portsmouth Arms
DESCRIPTION:
URL:https://jenny-oag.co.uk/event/portsmouth-arms/
LOCATION:Portsmouth Arms \, Hatch Warren Lane\, Hatch Warren\, RG22 4RA
END:VEVENT
BEGIN:VEVENT
DTSTART;TZID=UTC:20240608T120000
DTEND;TZID=UTC:20240608T160000
DTSTAMP:20260425T160831
CREATED:20240316T120952Z
LAST-MODIFIED:20240316T120952Z
UID:5780-1717848000-1717862400@jenny-oag.co.uk
SUMMARY:Private Event
DESCRIPTION:
URL:https://jenny-oag.co.uk/event/private-event-12/
END:VEVENT
BEGIN:VEVENT
DTSTART;TZID=UTC:20240608T200000
DTEND;TZID=UTC:20240608T220000
DTSTAMP:20260425T160831
CREATED:20231115T092816Z
LAST-MODIFIED:20231115T092816Z
UID:5534-1717876800-1717884000@jenny-oag.co.uk
SUMMARY:Royal Bath Hotel
DESCRIPTION:
URL:https://jenny-oag.co.uk/event/royal-bath-hotel-28/
LOCATION:Royal Bath Hotel Bournemouth
END:VEVENT
BEGIN:VEVENT
DTSTART;TZID=UTC:20240609T140000
DTEND;TZID=UTC:20240609T170000
DTSTAMP:20260425T160831
CREATED:20240507T082613Z
LAST-MODIFIED:20240507T082613Z
UID:5853-1717941600-1717952400@jenny-oag.co.uk
SUMMARY:Alderney Manor Social Club
DESCRIPTION:
URL:https://jenny-oag.co.uk/event/alderney-manor-social-club/
LOCATION:Alderney Manor Social Club 287 Herbert Avenue Poole BH12 4HT
END:VEVENT
BEGIN:VEVENT
DTSTART;TZID=UTC:20240609T203000
DTEND;TZID=UTC:20240609T223000
DTSTAMP:20260425T160831
CREATED:20240105T160703Z
LAST-MODIFIED:20240105T160703Z
UID:5596-1717965000-1717972200@jenny-oag.co.uk
SUMMARY:Court Royal Hotel - Private
DESCRIPTION:
URL:https://jenny-oag.co.uk/event/court-royal-hotel-private-8/
END:VEVENT
BEGIN:VEVENT
DTSTART;TZID=UTC:20240611T200000
DTEND;TZID=UTC:20240611T220000
DTSTAMP:20260425T160831
CREATED:20240418T101444Z
LAST-MODIFIED:20240418T101444Z
UID:5840-1718136000-1718143200@jenny-oag.co.uk
SUMMARY:Carrington Hotel
DESCRIPTION:
URL:https://jenny-oag.co.uk/event/carrington-hotel-44/
END:VEVENT
BEGIN:VEVENT
DTSTART;TZID=UTC:20240614T193000
DTEND;TZID=UTC:20240614T213000
DTSTAMP:20260425T160831
CREATED:20240514T171520Z
LAST-MODIFIED:20240514T171520Z
UID:5873-1718393400-1718400600@jenny-oag.co.uk
SUMMARY:The New Moon
DESCRIPTION:
URL:https://jenny-oag.co.uk/event/the-new-moon-2/
LOCATION:The New Moon\, Brighton Road\, Southgate\, Crawley\, RH10 6SZ
END:VEVENT
BEGIN:VEVENT
DTSTART;TZID=UTC:20240615T123000
DTEND;TZID=UTC:20240615T143000
DTSTAMP:20260425T160831
CREATED:20240513T171730Z
LAST-MODIFIED:20240513T171730Z
UID:5865-1718454600-1718461800@jenny-oag.co.uk
SUMMARY:Fox & Pelican
DESCRIPTION:
URL:https://jenny-oag.co.uk/event/fox-pelican/
LOCATION:The Fox & Pelican\, Hindhead\, Headley Rd\, Grayshott\, Hindhead\, GU26 6LG
END:VEVENT
BEGIN:VEVENT
DTSTART;TZID=UTC:20240615T200000
DTEND;TZID=UTC:20240615T220000
DTSTAMP:20260425T160831
CREATED:20231116T191649Z
LAST-MODIFIED:20231116T191649Z
UID:5542-1718481600-1718488800@jenny-oag.co.uk
SUMMARY:The Wheatsheaf Pub
DESCRIPTION:
URL:https://jenny-oag.co.uk/event/the-wheatsheaf-pub/
LOCATION:the Wheatshef Pub\, Christchurch Rd\, New Milton\, BH25 6QJ
END:VEVENT
BEGIN:VEVENT
DTSTART;TZID=UTC:20240616T200000
DTEND;TZID=UTC:20240616T220000
DTSTAMP:20260425T160831
CREATED:20231011T081427Z
LAST-MODIFIED:20231011T081427Z
UID:5486-1718568000-1718575200@jenny-oag.co.uk
SUMMARY:Tilehurst RBL
DESCRIPTION:
URL:https://jenny-oag.co.uk/event/tilehurst-rbl-3/
LOCATION:Tilehurst RBL\, Downing Rd\, Tilehurst\, Reading\, Berkshire\, RG31 5BB\, United Kingdom
END:VEVENT
BEGIN:VEVENT
DTSTART;TZID=UTC:20240621T203000
DTEND;TZID=UTC:20240621T220000
DTSTAMP:20260425T160831
CREATED:20240105T161003Z
LAST-MODIFIED:20240105T161003Z
UID:5602-1719001800-1719007200@jenny-oag.co.uk
SUMMARY:Court Royal Hotel - Private
DESCRIPTION:
URL:https://jenny-oag.co.uk/event/court-royal-hotel-private-11/
END:VEVENT
BEGIN:VEVENT
DTSTART;TZID=UTC:20240622T200000
DTEND;TZID=UTC:20240622T220000
DTSTAMP:20260425T160831
CREATED:20240124T122216Z
LAST-MODIFIED:20240513T201925Z
UID:5653-1719086400-1719093600@jenny-oag.co.uk
SUMMARY:The Grenadier
DESCRIPTION:
URL:https://jenny-oag.co.uk/event/the-wheatsheaf-bognor-regis-2/
LOCATION:The Grenadier\, 200 Hangleton Road\, Brighton and Hove\, Hove\, East Sussex\, BN3 7LT
END:VEVENT
BEGIN:VEVENT
DTSTART;TZID=UTC:20240623T173000
DTEND;TZID=UTC:20240623T193000
DTSTAMP:20260425T160831
CREATED:20240404T141624Z
LAST-MODIFIED:20240404T141624Z
UID:5817-1719163800-1719171000@jenny-oag.co.uk
SUMMARY:The Anchor Inn
DESCRIPTION:
URL:https://jenny-oag.co.uk/event/the-anchor-inn/
LOCATION:46 High Street\, Storrington\, West Sussex\, RH20 4DU
END:VEVENT
BEGIN:VEVENT
DTSTART;TZID=UTC:20240624T200000
DTEND;TZID=UTC:20240624T220000
DTSTAMP:20260425T160831
CREATED:20240418T101510Z
LAST-MODIFIED:20240418T101510Z
UID:5842-1719259200-1719266400@jenny-oag.co.uk
SUMMARY:Carrington Hotel
DESCRIPTION:
URL:https://jenny-oag.co.uk/event/carrington-hotel-45/
END:VEVENT
BEGIN:VEVENT
DTSTART;TZID=UTC:20240625T200000
DTEND;TZID=UTC:20240625T220000
DTSTAMP:20260425T160831
CREATED:20231115T092847Z
LAST-MODIFIED:20231115T092847Z
UID:5536-1719345600-1719352800@jenny-oag.co.uk
SUMMARY:Royal Bath Hotel
DESCRIPTION:
URL:https://jenny-oag.co.uk/event/royal-bath-hotel-29/
LOCATION:Royal Bath Hotel Bournemouth
END:VEVENT
BEGIN:VEVENT
DTSTART;TZID=UTC:20240629T200000
DTEND;TZID=UTC:20240629T220000
DTSTAMP:20260425T160831
CREATED:20230919T132250Z
LAST-MODIFIED:20230919T132250Z
UID:5477-1719691200-1719698400@jenny-oag.co.uk
SUMMARY:Avon Con Club
DESCRIPTION:
URL:https://jenny-oag.co.uk/event/avon-con-club/
LOCATION:Avon Con Club\, Avon Road\, Bournemouth\, BH8 8SE\, United Kingdom
END:VEVENT
END:VCALENDAR