BEGIN:VCALENDAR
VERSION:2.0
PRODID:-//The Music of Jenny Oag - ECPv5.1.4//NONSGML v1.0//EN
CALSCALE:GREGORIAN
METHOD:PUBLISH
X-WR-CALNAME:The Music of Jenny Oag
X-ORIGINAL-URL:https://jenny-oag.co.uk
X-WR-CALDESC:Events for The Music of Jenny Oag
BEGIN:VTIMEZONE
TZID:UTC
BEGIN:STANDARD
TZOFFSETFROM:+0000
TZOFFSETTO:+0000
TZNAME:UTC
DTSTART:20240101T000000
END:STANDARD
END:VTIMEZONE
BEGIN:VEVENT
DTSTART;TZID=UTC:20240701T210000
DTEND;TZID=UTC:20240701T220000
DTSTAMP:20260425T143225
CREATED:20240205T181416Z
LAST-MODIFIED:20240205T181416Z
UID:5696-1719867600-1719871200@jenny-oag.co.uk
SUMMARY:Littlesea Haven Holidays
DESCRIPTION:
URL:https://jenny-oag.co.uk/event/littlesea-haven-holidays-5/
END:VEVENT
BEGIN:VEVENT
DTSTART;TZID=UTC:20240702T200000
DTEND;TZID=UTC:20240702T220000
DTSTAMP:20260425T143225
CREATED:20240516T143502Z
LAST-MODIFIED:20240516T143502Z
UID:5875-1719950400-1719957600@jenny-oag.co.uk
SUMMARY:Carrington Hotel
DESCRIPTION:
URL:https://jenny-oag.co.uk/event/carrington-hotel-46/
END:VEVENT
BEGIN:VEVENT
DTSTART;TZID=UTC:20240703T183000
DTEND;TZID=UTC:20240703T203000
DTSTAMP:20260425T143225
CREATED:20240523T234215Z
LAST-MODIFIED:20240523T234215Z
UID:5887-1720031400-1720038600@jenny-oag.co.uk
SUMMARY:The Oaks Highcliffe
DESCRIPTION:
URL:https://jenny-oag.co.uk/event/the-oaks-highcliffe/
LOCATION:189 Lymington Road Highcliffe Christchurch BH23 5EA
END:VEVENT
BEGIN:VEVENT
DTSTART;TZID=UTC:20240705T083000
DTEND;TZID=UTC:20240705T223000
DTSTAMP:20260425T143225
CREATED:20240105T160741Z
LAST-MODIFIED:20240105T160741Z
UID:5598-1720168200-1720218600@jenny-oag.co.uk
SUMMARY:Court Royal Hotel - Private
DESCRIPTION:
URL:https://jenny-oag.co.uk/event/court-royal-hotel-private-9/
END:VEVENT
BEGIN:VEVENT
DTSTART;TZID=UTC:20240706T200000
DTEND;TZID=UTC:20240706T220000
DTSTAMP:20260425T143225
CREATED:20231115T092916Z
LAST-MODIFIED:20231115T092916Z
UID:5539-1720296000-1720303200@jenny-oag.co.uk
SUMMARY:Royal Bath Hotel
DESCRIPTION:
URL:https://jenny-oag.co.uk/event/royal-bath-hotel-30/
LOCATION:Royal Bath Hotel Bournemouth
END:VEVENT
BEGIN:VEVENT
DTSTART;TZID=UTC:20240708T200000
DTEND;TZID=UTC:20240708T220000
DTSTAMP:20260425T143225
CREATED:20240702T102512Z
LAST-MODIFIED:20240702T102512Z
UID:5911-1720468800-1720476000@jenny-oag.co.uk
SUMMARY:Carrington Hotel
DESCRIPTION:
URL:https://jenny-oag.co.uk/event/carrington-hotel-49/
LOCATION:Carrington House Hotel\, Knyveton Road\, Bournemouth\, BH1 3QQ\, United Kingdom
END:VEVENT
BEGIN:VEVENT
DTSTART;TZID=UTC:20240712T203000
DTEND;TZID=UTC:20240712T223000
DTSTAMP:20260425T143225
CREATED:20240105T160804Z
LAST-MODIFIED:20240105T160804Z
UID:5600-1720816200-1720823400@jenny-oag.co.uk
SUMMARY:Court Royal Hotel - Private
DESCRIPTION:
URL:https://jenny-oag.co.uk/event/court-royal-hotel-private-10/
END:VEVENT
BEGIN:VEVENT
DTSTART;VALUE=DATE:20240713
DTEND;VALUE=DATE:20240714
DTSTAMP:20260425T143225
CREATED:20230509T174800Z
LAST-MODIFIED:20230509T174800Z
UID:5282-1720828800-1720915199@jenny-oag.co.uk
SUMMARY:Private Event
DESCRIPTION:
URL:https://jenny-oag.co.uk/event/private-event-5/
END:VEVENT
BEGIN:VEVENT
DTSTART;TZID=UTC:20240803T190000
DTEND;TZID=UTC:20240803T210000
DTSTAMP:20260425T143225
CREATED:20240510T100325Z
LAST-MODIFIED:20240510T100325Z
UID:5859-1722711600-1722718800@jenny-oag.co.uk
SUMMARY:Sandbanks Hotel
DESCRIPTION:
URL:https://jenny-oag.co.uk/event/sandbanks-hotel/
LOCATION:Sandbanks Hotel 15 Banks Rd\, Poole BH13 7PS
END:VEVENT
END:VCALENDAR